BEGIN:VCALENDAR
VERSION:2.0
PRODID:-//Moffett Park Business Group - ECPv6.15.20//NONSGML v1.0//EN
CALSCALE:GREGORIAN
METHOD:PUBLISH
X-WR-CALNAME:Moffett Park Business Group
X-ORIGINAL-URL:https://www.mpbg.org
X-WR-CALDESC:Events for Moffett Park Business Group
REFRESH-INTERVAL;VALUE=DURATION:PT1H
X-Robots-Tag:noindex
X-PUBLISHED-TTL:PT1H
BEGIN:VTIMEZONE
TZID:UTC
BEGIN:STANDARD
TZOFFSETFROM:+0000
TZOFFSETTO:+0000
TZNAME:UTC
DTSTART:20150101T000000
END:STANDARD
END:VTIMEZONE
BEGIN:VTIMEZONE
TZID:America/Los_Angeles
BEGIN:DAYLIGHT
TZOFFSETFROM:-0800
TZOFFSETTO:-0700
TZNAME:PDT
DTSTART:20150308T100000
END:DAYLIGHT
BEGIN:STANDARD
TZOFFSETFROM:-0700
TZOFFSETTO:-0800
TZNAME:PST
DTSTART:20151101T090000
END:STANDARD
BEGIN:DAYLIGHT
TZOFFSETFROM:-0800
TZOFFSETTO:-0700
TZNAME:PDT
DTSTART:20160313T100000
END:DAYLIGHT
BEGIN:STANDARD
TZOFFSETFROM:-0700
TZOFFSETTO:-0800
TZNAME:PST
DTSTART:20161106T090000
END:STANDARD
BEGIN:DAYLIGHT
TZOFFSETFROM:-0800
TZOFFSETTO:-0700
TZNAME:PDT
DTSTART:20170312T100000
END:DAYLIGHT
BEGIN:STANDARD
TZOFFSETFROM:-0700
TZOFFSETTO:-0800
TZNAME:PST
DTSTART:20171105T090000
END:STANDARD
BEGIN:DAYLIGHT
TZOFFSETFROM:-0800
TZOFFSETTO:-0700
TZNAME:PDT
DTSTART:20180311T100000
END:DAYLIGHT
BEGIN:STANDARD
TZOFFSETFROM:-0700
TZOFFSETTO:-0800
TZNAME:PST
DTSTART:20181104T090000
END:STANDARD
END:VTIMEZONE
BEGIN:VTIMEZONE
TZID:Asia/Shanghai
BEGIN:STANDARD
TZOFFSETFROM:+0800
TZOFFSETTO:+0800
TZNAME:CST
DTSTART:20150101T000000
END:STANDARD
END:VTIMEZONE
BEGIN:VEVENT
DTSTART;TZID=UTC:20170710T113000
DTEND;TZID=UTC:20170710T130000
DTSTAMP:20260423T083500
CREATED:20170524T092803Z
LAST-MODIFIED:20170524T092803Z
UID:776-1499686200-1499691600@www.mpbg.org
SUMMARY:MPBG Board Meeting
DESCRIPTION:
URL:https://www.mpbg.org/event/mpbg-board-meeting-5/
LOCATION:Lockheed Martin\, Lockheed Martin Way\, Sunnyvale\, CA\, 94088\, United States
CATEGORIES:Events
ATTACH;FMTTYPE=image/jpeg:https://www.mpbg.org/wp-content/uploads/2016/05/event-02.jpg
END:VEVENT
BEGIN:VEVENT
DTSTART;TZID=UTC:20170606T110000
DTEND;TZID=UTC:20170606T120000
DTSTAMP:20260423T083500
CREATED:20170530T233604Z
LAST-MODIFIED:20170601T033943Z
UID:830-1496746800-1496750400@www.mpbg.org
SUMMARY:MPBG Transportation Group
DESCRIPTION:
URL:https://www.mpbg.org/event/mpbg-transportation-group-3/
LOCATION:Juniper Networks\, 1133 Innovation Way\, Sunnyvale\, CA\, 94089\, United States
CATEGORIES:Events
ATTACH;FMTTYPE=image/jpeg:https://www.mpbg.org/wp-content/uploads/2016/05/event-03.jpg
END:VEVENT
BEGIN:VEVENT
DTSTART;TZID=UTC:20170523T110000
DTEND;TZID=UTC:20170523T120000
DTSTAMP:20260423T083500
CREATED:20170516T015429Z
LAST-MODIFIED:20170527T043002Z
UID:774-1495537200-1495540800@www.mpbg.org
SUMMARY:MPBG Transportation Meeting
DESCRIPTION:
URL:https://www.mpbg.org/event/mpbg-transportation-meeting-2/
LOCATION:Juniper Networks\, 1133 Innovation Way\, Sunnyvale\, CA\, 94089\, United States
CATEGORIES:Events
ATTACH;FMTTYPE=image/jpeg:https://www.mpbg.org/wp-content/uploads/2016/05/events-05.jpg
END:VEVENT
BEGIN:VEVENT
DTSTART;TZID=UTC:20170511T070000
DTEND;TZID=UTC:20170511T090000
DTSTAMP:20260423T083500
CREATED:20170407T044024Z
LAST-MODIFIED:20170407T044024Z
UID:757-1494486000-1494493200@www.mpbg.org
SUMMARY:Bike to Work Day
DESCRIPTION:Pledge to ride to work on Bike to Work Day (BTWD) Thursday\, May 11\, 2017 and have a chance to win BIG from Silicon Valley Bicycle Coalition! \nBike to Work Day\, part of National Bike Month\, is the biggest bicycling event in the Bay Area. It serves as a way to celebrate the bicycling community\, but most importantly\, it’s a huge opportunity to get new people to ride and see how commuting to work by bike is a real\, efficient\, and fun option.
URL:https://www.mpbg.org/event/bike-work-day/
LOCATION:CA
CATEGORIES:Events
ATTACH;FMTTYPE=image/jpeg:https://www.mpbg.org/wp-content/uploads/2016/05/event-02.jpg
END:VEVENT
BEGIN:VEVENT
DTSTART;TZID=UTC:20170418T130000
DTEND;TZID=UTC:20170418T140000
DTSTAMP:20260423T083500
CREATED:20170304T060557Z
LAST-MODIFIED:20170526T020313Z
UID:749-1492520400-1492524000@www.mpbg.org
SUMMARY:MPBG Transportation Meeting
DESCRIPTION:We will share TDM program best practices and discuss the R@MP promotion.
URL:https://www.mpbg.org/event/mpbg-transportation-meeting/
LOCATION:Juniper Networks\, 1133 Innovation Way\, Sunnyvale\, CA\, 94089\, United States
CATEGORIES:Events
ATTACH;FMTTYPE=image/jpeg:https://www.mpbg.org/wp-content/uploads/2016/05/events-05.jpg
END:VEVENT
BEGIN:VEVENT
DTSTART;TZID=America/Los_Angeles:20170313T123000
DTEND;TZID=America/Los_Angeles:20170313T133000
DTSTAMP:20260423T083500
CREATED:20170112T071457Z
LAST-MODIFIED:20170222T072024Z
UID:661-1489408200-1489411800@www.mpbg.org
SUMMARY:Mary Ave. Overpass Stakeholder Meeting
DESCRIPTION:Content is protected.
URL:https://www.mpbg.org/event/mary-ave-overpass-stakeholder-meeting/
LOCATION:CA
CATEGORIES:Board Only
END:VEVENT
BEGIN:VEVENT
DTSTART;TZID=UTC:20170313T113000
DTEND;TZID=UTC:20170313T130000
DTSTAMP:20260423T083500
CREATED:20170112T070557Z
LAST-MODIFIED:20170222T072343Z
UID:660-1489404600-1489410000@www.mpbg.org
SUMMARY:MPBG Board Meeting
DESCRIPTION:
URL:https://www.mpbg.org/event/mpbg-board-meeting-4/
LOCATION:Juniper Networks\, 1133 Innovation Way\, Sunnyvale\, CA\, 94089\, United States
CATEGORIES:Events
ATTACH;FMTTYPE=image/jpeg:https://www.mpbg.org/wp-content/uploads/2016/05/event-03.jpg
END:VEVENT
BEGIN:VEVENT
DTSTART;TZID=America/Los_Angeles:20170125T130000
DTEND;TZID=America/Los_Angeles:20170125T153000
DTSTAMP:20260423T083500
CREATED:20170112T065504Z
LAST-MODIFIED:20170112T070934Z
UID:657-1485349200-1485358200@www.mpbg.org
SUMMARY:MPBG Emergency Response Committee Meeting
DESCRIPTION:Continued work on Violent Intruder Policy .
URL:https://www.mpbg.org/event/mpbg-emergency-response-committee-meeting/
LOCATION:Juniper Networks\, 1133 Innovation Way\, Sunnyvale\, CA\, 94089\, United States
CATEGORIES:Events
ATTACH;FMTTYPE=image/jpeg:https://www.mpbg.org/wp-content/uploads/2016/05/event-01.jpg
END:VEVENT
BEGIN:VEVENT
DTSTART;TZID=America/Los_Angeles:20170117T183000
DTEND;TZID=America/Los_Angeles:20170117T200000
DTSTAMP:20260423T083500
CREATED:20170105T031047Z
LAST-MODIFIED:20170105T031620Z
UID:651-1484677800-1484683200@www.mpbg.org
SUMMARY:Mary Ave EIR Community Kickoff Meeting
DESCRIPTION:City of Sunnyvale will hold a community meeting to discuss the Mary Ave Environmental Impact (EIR) Report.  At the meeting\, city staff will explain the project and its potential benefits\, outline options to be studied in the Environmental Impact Report (EIR)\, and take input on the community engagement process and concerns. \nThe meeting is: \n\nTuesday\, January 17\, 2017\n6:30 pm – 8:00 pm\nWashington Park Building\n840 W. Washington Avenue\nSunnyvale\n\n  \n 
URL:https://www.mpbg.org/event/mary-ave-eir-community-kickoff-meeting/
LOCATION:Washington Park Building\, 840 W. Washington Ave\, Sunnyvale\, 94089
CATEGORIES:Events
ATTACH;FMTTYPE=image/jpeg:https://www.mpbg.org/wp-content/uploads/2016/05/event-02.jpg
END:VEVENT
BEGIN:VEVENT
DTSTART;TZID=UTC:20170110T120000
DTEND;TZID=UTC:20170110T120000
DTSTAMP:20260423T083500
CREATED:20161203T061003Z
LAST-MODIFIED:20161203T061003Z
UID:634-1484049600-1484049600@www.mpbg.org
SUMMARY:MPBG Transportation Group
DESCRIPTION:
URL:https://www.mpbg.org/event/mpbg-transportation-group-2/
LOCATION:CA
CATEGORIES:Events
ATTACH;FMTTYPE=image/jpeg:https://www.mpbg.org/wp-content/uploads/2016/05/events-05.jpg
END:VEVENT
BEGIN:VEVENT
DTSTART;TZID=America/Los_Angeles:20170109T130000
DTEND;TZID=America/Los_Angeles:20170109T150000
DTSTAMP:20260423T083500
CREATED:20161214T225640Z
LAST-MODIFIED:20170105T031925Z
UID:638-1483966800-1483974000@www.mpbg.org
SUMMARY:MPBG Emergency Response Group
DESCRIPTION:The MPBG Emergency Response Group will have a working session writing Violent Intruder response between companies.
URL:https://www.mpbg.org/event/mpbg-emergency-response-group/
LOCATION:Amazon Lab126\, 1120 Enterprise Way\, Sunnyvale\, 94089
ATTACH;FMTTYPE=image/jpeg:https://www.mpbg.org/wp-content/uploads/2016/05/event-01.jpg
END:VEVENT
BEGIN:VEVENT
DTSTART;TZID=UTC:20170109T113000
DTEND;TZID=UTC:20170109T130000
DTSTAMP:20260423T083500
CREATED:20161203T060044Z
LAST-MODIFIED:20161203T060658Z
UID:631-1483961400-1483966800@www.mpbg.org
SUMMARY:MPBG Board Meeting
DESCRIPTION:
URL:https://www.mpbg.org/event/mpbg-board-meeting-3/
LOCATION:Juniper Networks\, 1133 Innovation Way\, Sunnyvale\, CA\, 94089\, United States
CATEGORIES:Events
ATTACH;FMTTYPE=image/jpeg:https://www.mpbg.org/wp-content/uploads/2016/05/event-04.jpg
END:VEVENT
BEGIN:VEVENT
DTSTART;TZID=UTC:20161212T100000
DTEND;TZID=UTC:20161212T110000
DTSTAMP:20260423T083500
CREATED:20161203T060526Z
LAST-MODIFIED:20161203T060526Z
UID:632-1481536800-1481540400@www.mpbg.org
SUMMARY:MPBG Emergency Group Meeting
DESCRIPTION:
URL:https://www.mpbg.org/event/mpbg-emergency-group-meeting-2/
LOCATION:Amazon Lab126\, 1120 Enterprise Way\, Sunnyvale\, 94089
CATEGORIES:Events
ATTACH;FMTTYPE=image/jpeg:https://www.mpbg.org/wp-content/uploads/2016/05/event-03.jpg
END:VEVENT
BEGIN:VEVENT
DTSTART;TZID=UTC:20161114T113000
DTEND;TZID=UTC:20161114T130000
DTSTAMP:20260423T083500
CREATED:20161114T124738Z
LAST-MODIFIED:20161005T034054Z
UID:441-1479123000-1479128400@www.mpbg.org
SUMMARY:MPBG Board Meeting
DESCRIPTION:
URL:https://www.mpbg.org/event/mpbg-board-meeting/
LOCATION:Juniper Networks\, 1133 Innovation Way\, Sunnyvale\, CA\, 94089\, United States
CATEGORIES:Events
ATTACH;FMTTYPE=image/jpeg:https://www.mpbg.org/wp-content/uploads/2016/05/event-04.jpg
END:VEVENT
BEGIN:VEVENT
DTSTART;TZID=UTC:20161114T113000
DTEND;TZID=UTC:20161114T130000
DTSTAMP:20260423T083500
CREATED:20161101T011123Z
LAST-MODIFIED:20161101T011123Z
UID:623-1479123000-1479128400@www.mpbg.org
SUMMARY:MPBG Board Meeting
DESCRIPTION:
URL:https://www.mpbg.org/event/mpbg-board-meeting-2/
LOCATION:Juniper Networks\, 1133 Innovation Way\, Sunnyvale\, CA\, 94089\, United States
CATEGORIES:Events
ATTACH;FMTTYPE=image/jpeg:https://www.mpbg.org/wp-content/uploads/2016/05/event-01.jpg
END:VEVENT
BEGIN:VEVENT
DTSTART;TZID=UTC:20161109T100000
DTEND;TZID=UTC:20161109T113000
DTSTAMP:20260423T083500
CREATED:20161101T011601Z
LAST-MODIFIED:20161101T011601Z
UID:624-1478685600-1478691000@www.mpbg.org
SUMMARY:MPBG Emergency Group Meeting
DESCRIPTION:
URL:https://www.mpbg.org/event/mpbg-emergency-group-meeting/
LOCATION:Juniper Networks\, 1133 Innovation Way\, Sunnyvale\, CA\, 94089\, United States
CATEGORIES:Events
ATTACH;FMTTYPE=image/jpeg:https://www.mpbg.org/wp-content/uploads/2016/05/event-03.jpg
END:VEVENT
BEGIN:VEVENT
DTSTART;TZID=UTC:20161108T110000
DTEND;TZID=UTC:20161108T115500
DTSTAMP:20260423T083500
CREATED:20161101T011925Z
LAST-MODIFIED:20161101T011925Z
UID:625-1478602800-1478606100@www.mpbg.org
SUMMARY:MPBG Transportation Group
DESCRIPTION:
URL:https://www.mpbg.org/event/mpbg-transportation-group/
LOCATION:CA
CATEGORIES:Events
ATTACH;FMTTYPE=image/jpeg:https://www.mpbg.org/wp-content/uploads/2016/05/events-05.jpg
END:VEVENT
BEGIN:VEVENT
DTSTART;TZID=America/Los_Angeles:20161006T143000
DTEND;TZID=America/Los_Angeles:20161006T163000
DTSTAMP:20260423T083500
CREATED:20160910T000529Z
LAST-MODIFIED:20160910T000751Z
UID:612-1475764200-1475771400@www.mpbg.org
SUMMARY:MPBG & Joint Venture Silicon Valley EV Working Group Meeting
DESCRIPTION:
URL:https://www.mpbg.org/event/mpbg-joint-venture-silicon-valley-ev-working-group-meeting/
LOCATION:Juniper Networks #6\, 1215 Borregas Ave\, Sunnyvale\, CA\, 94089\, United States
CATEGORIES:Events
ATTACH;FMTTYPE=image/jpeg:https://www.mpbg.org/wp-content/uploads/2016/05/event-01.jpg
END:VEVENT
BEGIN:VEVENT
DTSTART;TZID=UTC:20160928T100000
DTEND;TZID=UTC:20160928T110000
DTSTAMP:20260423T083500
CREATED:20160522T114547Z
LAST-MODIFIED:20160910T000152Z
UID:440-1475056800-1475060400@www.mpbg.org
SUMMARY:MPBG Emergency Group Meeting
DESCRIPTION:
URL:https://www.mpbg.org/event/emergency-group-meeting/
LOCATION:Juniper Networks\, 1133 Innovation Way\, Sunnyvale\, CA\, 94089\, United States
CATEGORIES:Events
ATTACH;FMTTYPE=image/jpeg:https://www.mpbg.org/wp-content/uploads/2016/05/event-04.jpg
END:VEVENT
BEGIN:VEVENT
DTSTART;TZID=UTC:20160913T113000
DTEND;TZID=UTC:20160913T130000
DTSTAMP:20260423T083500
CREATED:20160819T062303Z
LAST-MODIFIED:20160910T000241Z
UID:585-1473766200-1473771600@www.mpbg.org
SUMMARY:MPBG Transportation Group Sub Committee Meeting
DESCRIPTION:
URL:https://www.mpbg.org/event/mpbg-transportation-group-sub-committee-meeting/
LOCATION:Juniper Networks\, 1133 Innovation Way\, Sunnyvale\, CA\, 94089\, United States
CATEGORIES:Events
ATTACH;FMTTYPE=image/jpeg:https://www.mpbg.org/wp-content/uploads/2016/05/events-05.jpg
END:VEVENT
BEGIN:VEVENT
DTSTART;TZID=Asia/Shanghai:20160727T113000
DTEND;TZID=Asia/Shanghai:20160727T130000
DTSTAMP:20260423T083500
CREATED:20160630T034711Z
LAST-MODIFIED:20160710T111346Z
UID:491-1469619000-1469624400@www.mpbg.org
SUMMARY:13th Annual Tour de Moffett Park Bike Event
DESCRIPTION:  \nJoin us for this year’s 13th Annual Tour de Moffett Park! \nGoogle and Moffett Park Business Park sponsor this year’s fun bike ride and lunch.  The event offers both long and short routes that take you around the Moffett Park and Baylands.  Once done\, enjoy lunch and a chance to win prizes in a drawing at Google! \nYou must be an employee from the Amazon Lab 126\, City of Sunnyvale\, Detati\, Google TC\, Infinera\, Jay Paul\, JSR Micro\, Juniper\, Labcyte\, Lockheed Martin\, Microsoft (in Sunnyvale)\, NetApp\, Rambus and Yahoo! to take part. \nPull out your bike\, take a break from your busy work schedule and join us for a great time! \nNOTE: a bike helmet is required to participate and no same-day registration.  \nBike Routes: \nLong – http://www.mapmyride.com/routes/copy/1114495495/ \nShort – http://www.mapmyride.com/routes/copy/1134505630/ \nRegister here
URL:https://www.mpbg.org/event/13th-annual-tour-de-moffett-park-bike-event/
LOCATION:CA
CATEGORIES:Events
ATTACH;FMTTYPE=image/jpeg:https://www.mpbg.org/wp-content/uploads/2016/05/event-02.jpg
END:VEVENT
BEGIN:VEVENT
DTSTART;TZID=America/Los_Angeles:20160621T140000
DTEND;TZID=America/Los_Angeles:20160621T150000
DTSTAMP:20260423T083500
CREATED:20160520T022619Z
LAST-MODIFIED:20160522T114438Z
UID:427-1466517600-1466521200@www.mpbg.org
SUMMARY:Transportation Group Meeting
DESCRIPTION:
URL:https://www.mpbg.org/event/transportation-group-meeting/
LOCATION:CA
CATEGORIES:Events
ATTACH;FMTTYPE=image/jpeg:https://www.mpbg.org/wp-content/uploads/2016/05/events-05.jpg
END:VEVENT
END:VCALENDAR